Name | Last modified | Size | Description | |
---|---|---|---|---|
Parent Directory | - | |||
checksrc-out.txt | 27-Jul-2024 06:41 | 9.9K | ||
buildbin-out.txt | 27-Jul-2024 06:41 | 3.8K | ||
install-out.txt | 27-Jul-2024 06:41 | 1.9K | ||
buildsrc-out.txt | 27-Jul-2024 06:41 | 913 | ||
buildbin-summary.dcf | 27-Jul-2024 06:41 | 536 | ||
checksrc-summary.dcf | 27-Jul-2024 06:41 | 454 | ||
buildsrc-summary.dcf | 27-Jul-2024 06:41 | 430 | ||
install-summary.dcf | 27-Jul-2024 06:41 | 271 | ||