Name | Last modified | Size | Description | |
---|---|---|---|---|
Parent Directory | - | |||
install-summary.dcf | 29-Jun-2024 06:41 | 269 | ||
install-out.txt | 29-Jun-2024 06:41 | 1.0K | ||
checksrc-summary.dcf | 29-Jun-2024 06:41 | 449 | ||
checksrc-out.txt | 29-Jun-2024 06:41 | 3.5K | ||
buildsrc-summary.dcf | 29-Jun-2024 06:41 | 454 | ||
buildsrc-out.txt | 29-Jun-2024 06:41 | 903 | ||
buildbin-summary.dcf | 29-Jun-2024 06:41 | 518 | ||
buildbin-out.txt | 29-Jun-2024 06:41 | 1.1K | ||