Name | Last modified | Size | Description | |
---|---|---|---|---|
Parent Directory | - | |||
buildbin-out.txt | 03-Jul-2024 23:19 | 4.3K | ||
buildbin-summary.dcf | 03-Jul-2024 23:19 | 504 | ||
buildsrc-out.txt | 03-Jul-2024 23:19 | 866 | ||
buildsrc-summary.dcf | 03-Jul-2024 23:19 | 444 | ||
checksrc-out.txt | 03-Jul-2024 23:19 | 6.4K | ||
checksrc-summary.dcf | 03-Jul-2024 23:19 | 445 | ||
install-out.txt | 03-Jul-2024 23:19 | 4.1K | ||
install-summary.dcf | 03-Jul-2024 23:19 | 264 | ||