Name | Last modified | Size | Description | |
---|---|---|---|---|
Parent Directory | - | |||
checksrc-out.txt | 12-Jun-2024 03:43 | 13K | ||
buildbin-out.txt | 12-Jun-2024 03:43 | 3.9K | ||
install-out.txt | 12-Jun-2024 03:43 | 1.9K | ||
buildsrc-out.txt | 12-Jun-2024 03:43 | 917 | ||
buildbin-summary.dcf | 12-Jun-2024 03:43 | 542 | ||
checksrc-summary.dcf | 12-Jun-2024 03:43 | 452 | ||
buildsrc-summary.dcf | 12-Jun-2024 03:43 | 432 | ||
install-summary.dcf | 12-Jun-2024 03:43 | 273 | ||