Index of /checkResults/3.19/bioc-LATEST/BiGGR/raw-results
Name
Last modified
Size
Description
Parent Directory
-
info.dcf
08-Jun-2024 09:22
278
kunpeng2/
10-May-2024 00:40
-
nebbiolo1/
08-Jun-2024 09:24
-
palomino3/
08-Jun-2024 09:25
-