Name | Last modified | Size | Description | |
---|---|---|---|---|
Parent Directory | - | |||
install-out.txt | 03-Jul-2024 23:18 | 2.2K | ||
install-summary.dcf | 03-Jul-2024 23:18 | 265 | ||
buildsrc-out.txt | 03-Jul-2024 23:18 | 848 | ||
buildsrc-summary.dcf | 03-Jul-2024 23:18 | 427 | ||
checksrc-out.txt | 03-Jul-2024 23:18 | 4.3K | ||
checksrc-summary.dcf | 03-Jul-2024 23:18 | 426 | ||