Index of /checkResults/3.18/workflows-LATEST/ExpressionNormalizationWorkflow/raw-results/nebbiolo2
Name
Last modified
Size
Description
Parent Directory
-
buildsrc-out.txt
17-Apr-2024 03:00
942
buildsrc-summary.dcf
17-Apr-2024 03:00
490
install-out.txt
17-Apr-2024 03:00
2.0K
install-summary.dcf
17-Apr-2024 03:00
307