Index of /checkResults/3.18/workflows-LATEST/ExpressionNormalizationWorkflow/raw-results/lconway
Name
Last modified
Size
Description
Parent Directory
-
install-out.txt
02-Mar-2024 04:00
2.1K
buildsrc-out.txt
02-Mar-2024 04:00
952
buildsrc-summary.dcf
02-Mar-2024 04:00
500
install-summary.dcf
02-Mar-2024 04:00
317