Index of /checkResults/3.18/workflows-LATEST/BP4RNAseq/raw-results/palomino4
Name
Last modified
Size
Description
Parent Directory
-
buildsrc-out.txt
17-Apr-2024 03:00
886
buildsrc-summary.dcf
17-Apr-2024 03:00
460
install-out.txt
17-Apr-2024 03:00
968
install-summary.dcf
17-Apr-2024 03:00
271