Index of /checkResults/3.18/workflows-LATEST/BP4RNAseq/raw-results/nebbiolo2
Name
Last modified
Size
Description
Parent Directory
-
buildsrc-out.txt
17-Apr-2024 03:00
854
buildsrc-summary.dcf
17-Apr-2024 03:00
423
install-out.txt
17-Apr-2024 03:00
958
install-summary.dcf
17-Apr-2024 03:00
262