Name | Last modified | Size | Description | |
---|---|---|---|---|
Parent Directory | - | |||
install-summary.dcf | 17-Apr-2024 03:51 | 270 | ||
buildsrc-summary.dcf | 17-Apr-2024 03:51 | 434 | ||
checksrc-summary.dcf | 17-Apr-2024 03:51 | 443 | ||
buildsrc-out.txt | 17-Apr-2024 03:51 | 821 | ||
install-out.txt | 17-Apr-2024 03:51 | 1.0K | ||
checksrc-out.txt | 17-Apr-2024 03:51 | 4.2K | ||