Name | Last modified | Size | Description | |
---|---|---|---|---|
Parent Directory | - | |||
buildsrc-out.txt | 17-Apr-2024 21:30 | 846 | ||
buildsrc-summary.dcf | 17-Apr-2024 21:30 | 447 | ||
install-out.txt | 17-Apr-2024 21:30 | 1.0K | ||
install-summary.dcf | 17-Apr-2024 21:30 | 279 | ||
checksrc-out.txt | 17-Apr-2024 21:30 | 2.5K | ||
checksrc-summary.dcf | 17-Apr-2024 21:30 | 453 | ||