Name | Last modified | Size | Description | |
---|---|---|---|---|
Parent Directory | - | |||
install-summary.dcf | 17-Apr-2024 21:30 | 284 | ||
install-out.txt | 17-Apr-2024 21:30 | 1.0K | ||
checksrc-summary.dcf | 17-Apr-2024 21:30 | 464 | ||
checksrc-out.txt | 17-Apr-2024 21:30 | 3.9K | ||
buildsrc-summary.dcf | 17-Apr-2024 21:30 | 455 | ||
buildsrc-out.txt | 17-Apr-2024 21:30 | 895 | ||