Name | Last modified | Size | Description | |
---|---|---|---|---|
Parent Directory | - | |||
checksrc-out.txt | 13-Dec-2023 22:30 | 3.4K | ||
checksrc-summary.dcf | 13-Dec-2023 22:30 | 438 | ||
install-summary.dcf | 17-Apr-2024 21:30 | 270 | ||
buildsrc-out.txt | 17-Apr-2024 21:30 | 1.1K | ||
buildsrc-summary.dcf | 17-Apr-2024 21:30 | 345 | ||
install-out.txt | 17-Apr-2024 21:30 | 1.0K | ||