Name | Last modified | Size | Description | |
---|---|---|---|---|
Parent Directory | - | |||
buildsrc-out.txt | 17-Apr-2024 21:30 | 834 | ||
buildsrc-summary.dcf | 17-Apr-2024 21:30 | 438 | ||
checksrc-out.txt | 17-Apr-2024 21:30 | 2.8K | ||
checksrc-summary.dcf | 17-Apr-2024 21:30 | 442 | ||
install-out.txt | 17-Apr-2024 21:30 | 915 | ||
install-summary.dcf | 17-Apr-2024 21:30 | 273 | ||