Index of /checkResults/3.18/data-annotation-LATEST/cadd.v1.6.hg38/raw-results
Name
Last modified
Size
Description
Parent Directory
-
info.dcf
17-Apr-2024 21:30
289
nebbiolo2/
17-Apr-2024 21:30
-