Name | Last modified | Size | Description | |
---|---|---|---|---|
Parent Directory | - | |||
install-summary.dcf | 17-Apr-2024 21:30 | 257 | ||
checksrc-summary.dcf | 17-Apr-2024 21:30 | 410 | ||
buildsrc-summary.dcf | 17-Apr-2024 21:30 | 414 | ||
buildsrc-out.txt | 17-Apr-2024 21:30 | 842 | ||
install-out.txt | 17-Apr-2024 21:30 | 949 | ||
checksrc-out.txt | 17-Apr-2024 21:30 | 3.3K | ||