Index of /checkResults/3.18/data-annotation-LATEST/HPO.db/raw-results
Name
Last modified
Size
Description
Parent Directory
-
info.dcf
17-Apr-2024 21:30
266
nebbiolo2/
17-Apr-2024 21:30
-