Name | Last modified | Size | Description | |
---|---|---|---|---|
Parent Directory | - | |||
install-summary.dcf | 17-Apr-2024 21:30 | 266 | ||
install-out.txt | 17-Apr-2024 21:30 | 964 | ||
checksrc-summary.dcf | 17-Apr-2024 21:30 | 429 | ||
checksrc-out.txt | 17-Apr-2024 21:30 | 3.3K | ||
buildsrc-summary.dcf | 17-Apr-2024 21:30 | 426 | ||
buildsrc-out.txt | 17-Apr-2024 21:30 | 822 | ||