Name | Last modified | Size | Description | |
---|---|---|---|---|
Parent Directory | - | |||
install-summary.dcf | 17-Apr-2024 21:30 | 253 | ||
checksrc-summary.dcf | 17-Apr-2024 21:30 | 407 | ||
buildsrc-summary.dcf | 17-Apr-2024 21:30 | 410 | ||
buildsrc-out.txt | 17-Apr-2024 21:30 | 795 | ||
install-out.txt | 17-Apr-2024 21:30 | 963 | ||
checksrc-out.txt | 17-Apr-2024 21:30 | 3.5K | ||