Index of /checkResults/3.18/data-annotation-LATEST/CTCF/raw-results
Name
Last modified
Size
Description
Parent Directory
-
nebbiolo2/
17-Apr-2024 21:30
-
info.dcf
17-Apr-2024 21:30
276