Name | Last modified | Size | Description | |
---|---|---|---|---|
Parent Directory | - | |||
install-summary.dcf | 17-Apr-2024 21:30 | 293 | ||
buildsrc-summary.dcf | 17-Apr-2024 21:30 | 466 | ||
checksrc-summary.dcf | 17-Apr-2024 21:30 | 482 | ||
buildsrc-out.txt | 17-Apr-2024 21:30 | 874 | ||
install-out.txt | 17-Apr-2024 21:30 | 945 | ||
checksrc-out.txt | 17-Apr-2024 21:30 | 2.9K | ||