Index of /checkResults/3.18/data-annotation-LATEST/AlphaMissense.v2023.hg19/raw-results
Name
Last modified
Size
Description
Parent Directory
-
info.dcf
17-Apr-2024 21:30
309
nebbiolo2/
17-Apr-2024 21:30
-