Name | Last modified | Size | Description | |
---|---|---|---|---|
Parent Directory | - | |||
install-summary.dcf | 17-Apr-2024 21:30 | 266 | ||
install-out.txt | 17-Apr-2024 21:30 | 906 | ||
checksrc-summary.dcf | 17-Apr-2024 21:30 | 429 | ||
checksrc-out.txt | 17-Apr-2024 21:30 | 2.8K | ||
buildsrc-summary.dcf | 17-Apr-2024 21:30 | 429 | ||
buildsrc-out.txt | 17-Apr-2024 21:30 | 888 | ||