Name | Last modified | Size | Description | |
---|---|---|---|---|
Parent Directory | - | |||
install-summary.dcf | 17-Apr-2024 21:30 | 266 | ||
buildsrc-summary.dcf | 17-Apr-2024 21:30 | 428 | ||
checksrc-summary.dcf | 17-Apr-2024 21:30 | 428 | ||
buildsrc-out.txt | 17-Apr-2024 21:30 | 750 | ||
install-out.txt | 17-Apr-2024 21:30 | 932 | ||
checksrc-out.txt | 17-Apr-2024 21:30 | 2.2K | ||