Name | Last modified | Size | Description | |
---|---|---|---|---|
Parent Directory | - | |||
buildsrc-out.txt | 18-Apr-2024 03:00 | 856 | ||
buildsrc-summary.dcf | 18-Apr-2024 03:00 | 431 | ||
checksrc-out.txt | 18-Apr-2024 03:00 | 600 | ||
checksrc-summary.dcf | 18-Apr-2024 03:00 | 385 | ||
install-out.txt | 18-Apr-2024 03:00 | 956 | ||
install-summary.dcf | 18-Apr-2024 03:00 | 267 | ||