Index of /checkResults/3.18/books-LATEST/SingleRBook/raw-results
Name
Last modified
Size
Description
Parent Directory
-
nebbiolo2/
18-Apr-2024 03:00
-
info.dcf
18-Apr-2024 03:00
297