Name | Last modified | Size | Description | |
---|---|---|---|---|
Parent Directory | - | |||
checksrc-out.txt | 08-Mar-2024 04:40 | 3.3K | ||
checksrc-summary.dcf | 08-Mar-2024 04:40 | 452 | ||
buildbin-out.txt | 08-Mar-2024 04:40 | 1.3K | ||
buildbin-summary.dcf | 08-Mar-2024 04:40 | 542 | ||
install-out.txt | 19-Apr-2024 00:32 | 1.1K | ||
install-summary.dcf | 19-Apr-2024 00:32 | 273 | ||
buildsrc-out.txt | 19-Apr-2024 00:32 | 1.2K | ||
buildsrc-summary.dcf | 19-Apr-2024 00:32 | 347 | ||