Name | Last modified | Size | Description | |
---|---|---|---|---|
Parent Directory | - | |||
buildbin-out.txt | 19-Apr-2024 00:32 | 12K | ||
buildbin-summary.dcf | 19-Apr-2024 00:32 | 517 | ||
buildsrc-out.txt | 19-Apr-2024 00:32 | 886 | ||
buildsrc-summary.dcf | 19-Apr-2024 00:32 | 423 | ||
checksrc-out.txt | 19-Apr-2024 00:32 | 5.3K | ||
checksrc-summary.dcf | 19-Apr-2024 00:32 | 441 | ||
install-out.txt | 19-Apr-2024 00:32 | 9.8K | ||
install-summary.dcf | 19-Apr-2024 00:32 | 265 | ||