Name | Last modified | Size | Description | |
---|---|---|---|---|
Parent Directory | - | |||
buildbin-out.txt | 19-Apr-2024 00:32 | 5.7K | ||
buildbin-summary.dcf | 19-Apr-2024 00:32 | 518 | ||
buildsrc-out.txt | 19-Apr-2024 00:32 | 751 | ||
buildsrc-summary.dcf | 19-Apr-2024 00:32 | 420 | ||
checksrc-out.txt | 19-Apr-2024 00:32 | 4.4K | ||
checksrc-summary.dcf | 19-Apr-2024 00:32 | 441 | ||
install-out.txt | 19-Apr-2024 00:32 | 3.7K | ||
install-summary.dcf | 19-Apr-2024 00:32 | 264 | ||