Index of /checkResults/3.18/bioc-mac-arm64-LATEST/mina/raw-results
Name
Last modified
Size
Description
Parent Directory
-
info.dcf
19-Apr-2024 00:32
258
kjohnson1/
19-Apr-2024 00:32
-