Name | Last modified | Size | Description | |
---|---|---|---|---|
Parent Directory | - | |||
install-out.txt | 19-Apr-2024 00:32 | 1.0K | ||
install-summary.dcf | 19-Apr-2024 00:32 | 267 | ||
buildsrc-out.txt | 19-Apr-2024 00:32 | 812 | ||
buildsrc-summary.dcf | 19-Apr-2024 00:32 | 424 | ||
checksrc-out.txt | 19-Apr-2024 00:32 | 3.5K | ||
checksrc-summary.dcf | 19-Apr-2024 00:32 | 440 | ||
buildbin-out.txt | 19-Apr-2024 00:32 | 1.2K | ||
buildbin-summary.dcf | 19-Apr-2024 00:32 | 524 | ||