Name | Last modified | Size | Description | |
---|---|---|---|---|
Parent Directory | - | |||
install-summary.dcf | 19-Apr-2024 00:32 | 263 | ||
buildsrc-summary.dcf | 19-Apr-2024 00:32 | 418 | ||
checksrc-summary.dcf | 19-Apr-2024 00:32 | 437 | ||
buildbin-summary.dcf | 19-Apr-2024 00:32 | 512 | ||
buildsrc-out.txt | 19-Apr-2024 00:32 | 834 | ||
install-out.txt | 19-Apr-2024 00:32 | 5.6K | ||
buildbin-out.txt | 19-Apr-2024 00:32 | 7.4K | ||
checksrc-out.txt | 19-Apr-2024 00:32 | 7.8K | ||