Name | Last modified | Size | Description | |
---|---|---|---|---|
Parent Directory | - | |||
install-summary.dcf | 19-Apr-2024 00:32 | 271 | ||
buildsrc-summary.dcf | 19-Apr-2024 00:32 | 431 | ||
checksrc-summary.dcf | 19-Apr-2024 00:32 | 448 | ||
buildbin-summary.dcf | 19-Apr-2024 00:32 | 535 | ||
buildsrc-out.txt | 19-Apr-2024 00:32 | 850 | ||
install-out.txt | 19-Apr-2024 00:32 | 2.1K | ||
checksrc-out.txt | 19-Apr-2024 00:32 | 3.7K | ||
buildbin-out.txt | 19-Apr-2024 00:32 | 4.2K | ||