Name | Last modified | Size | Description | |
---|---|---|---|---|
Parent Directory | - | |||
install-summary.dcf | 19-Apr-2024 00:32 | 274 | ||
install-out.txt | 19-Apr-2024 00:32 | 188K | ||
checksrc-summary.dcf | 19-Apr-2024 00:32 | 457 | ||
checksrc-out.txt | 19-Apr-2024 00:32 | 14K | ||
buildsrc-summary.dcf | 19-Apr-2024 00:32 | 434 | ||
buildsrc-out.txt | 19-Apr-2024 00:32 | 902 | ||
buildbin-summary.dcf | 19-Apr-2024 00:32 | 543 | ||
buildbin-out.txt | 19-Apr-2024 00:32 | 190K | ||