Name | Last modified | Size | Description | |
---|---|---|---|---|
Parent Directory | - | |||
buildsrc-out.txt | 19-Apr-2024 00:32 | 807 | ||
buildsrc-summary.dcf | 19-Apr-2024 00:32 | 420 | ||
install-out.txt | 19-Apr-2024 00:32 | 1.0K | ||
install-summary.dcf | 19-Apr-2024 00:32 | 264 | ||
buildbin-out.txt | 19-Apr-2024 00:32 | 1.1K | ||
buildbin-summary.dcf | 19-Apr-2024 00:32 | 513 | ||
checksrc-out.txt | 19-Apr-2024 00:32 | 3.8K | ||
checksrc-summary.dcf | 19-Apr-2024 00:32 | 434 | ||