Name | Last modified | Size | Description | |
---|---|---|---|---|
Parent Directory | - | |||
buildbin-out.txt | 08-Mar-2024 04:40 | 1.3K | ||
buildbin-summary.dcf | 08-Mar-2024 04:40 | 602 | ||
buildsrc-out.txt | 19-Apr-2024 00:32 | 948 | ||
buildsrc-summary.dcf | 19-Apr-2024 00:32 | 366 | ||
checksrc-out.txt | 08-Mar-2024 04:40 | 4.2K | ||
checksrc-summary.dcf | 08-Mar-2024 04:40 | 497 | ||
install-out.txt | 19-Apr-2024 00:32 | 726 | ||
install-summary.dcf | 19-Apr-2024 00:32 | 295 | ||