Name | Last modified | Size | Description | |
---|---|---|---|---|
Parent Directory | - | |||
install-summary.dcf | 19-Apr-2024 00:32 | 278 | ||
install-out.txt | 19-Apr-2024 00:32 | 1.0K | ||
checksrc-summary.dcf | 19-Apr-2024 00:32 | 463 | ||
checksrc-out.txt | 19-Apr-2024 00:32 | 4.2K | ||
buildsrc-summary.dcf | 19-Apr-2024 00:32 | 442 | ||
buildsrc-out.txt | 19-Apr-2024 00:32 | 836 | ||
buildbin-summary.dcf | 19-Apr-2024 00:32 | 559 | ||
buildbin-out.txt | 19-Apr-2024 00:32 | 1.2K | ||