Index of /checkResults/3.18/bioc-mac-arm64-LATEST/RMassBank/raw-results/kjohnson1
Name
Last modified
Size
Description
Parent Directory
-
install-out.txt
19-Apr-2024 00:32
702
install-summary.dcf
19-Apr-2024 00:32
275
buildsrc-out.txt
19-Apr-2024 00:32
903
buildsrc-summary.dcf
19-Apr-2024 00:32
346