Name | Last modified | Size | Description | |
---|---|---|---|---|
Parent Directory | - | |||
install-summary.dcf | 19-Apr-2024 00:32 | 265 | ||
buildsrc-summary.dcf | 19-Apr-2024 00:32 | 422 | ||
checksrc-summary.dcf | 19-Apr-2024 00:32 | 435 | ||
buildbin-summary.dcf | 19-Apr-2024 00:32 | 518 | ||
buildsrc-out.txt | 19-Apr-2024 00:32 | 838 | ||
checksrc-out.txt | 19-Apr-2024 00:32 | 4.4K | ||
install-out.txt | 19-Apr-2024 00:32 | 5.8K | ||
buildbin-out.txt | 19-Apr-2024 00:32 | 7.8K | ||