Name | Last modified | Size | Description | |
---|---|---|---|---|
Parent Directory | - | |||
buildbin-out.txt | 19-Apr-2024 00:32 | 1.2K | ||
buildbin-summary.dcf | 19-Apr-2024 00:32 | 593 | ||
buildsrc-out.txt | 19-Apr-2024 00:32 | 1.2K | ||
buildsrc-summary.dcf | 19-Apr-2024 00:32 | 459 | ||
checksrc-out.txt | 19-Apr-2024 00:32 | 4.4K | ||
checksrc-summary.dcf | 19-Apr-2024 00:32 | 486 | ||
install-out.txt | 19-Apr-2024 00:32 | 1.0K | ||
install-summary.dcf | 19-Apr-2024 00:32 | 290 | ||