Name | Last modified | Size | Description | |
---|---|---|---|---|
Parent Directory | - | |||
install-out.txt | 19-Apr-2024 00:32 | 1.0K | ||
install-summary.dcf | 19-Apr-2024 00:32 | 269 | ||
buildsrc-out.txt | 19-Apr-2024 00:32 | 879 | ||
buildsrc-summary.dcf | 19-Apr-2024 00:32 | 428 | ||
checksrc-out.txt | 19-Apr-2024 00:32 | 36K | ||
checksrc-summary.dcf | 19-Apr-2024 00:32 | 450 | ||
buildbin-out.txt | 19-Apr-2024 00:32 | 1.2K | ||
buildbin-summary.dcf | 19-Apr-2024 00:32 | 530 | ||