Name | Last modified | Size | Description | |
---|---|---|---|---|
Parent Directory | - | |||
buildbin-out.txt | 19-Apr-2024 00:32 | 8.3K | ||
checksrc-out.txt | 19-Apr-2024 00:32 | 7.6K | ||
install-out.txt | 19-Apr-2024 00:32 | 6.3K | ||
buildsrc-out.txt | 19-Apr-2024 00:32 | 813 | ||
buildbin-summary.dcf | 19-Apr-2024 00:32 | 515 | ||
checksrc-summary.dcf | 19-Apr-2024 00:32 | 439 | ||
buildsrc-summary.dcf | 19-Apr-2024 00:32 | 417 | ||
install-summary.dcf | 19-Apr-2024 00:32 | 264 | ||