Name | Last modified | Size | Description | |
---|---|---|---|---|
Parent Directory | - | |||
install-summary.dcf | 19-Apr-2024 00:32 | 278 | ||
buildsrc-summary.dcf | 19-Apr-2024 00:32 | 440 | ||
checksrc-summary.dcf | 19-Apr-2024 00:32 | 462 | ||
buildbin-summary.dcf | 19-Apr-2024 00:32 | 557 | ||
buildsrc-out.txt | 19-Apr-2024 00:32 | 898 | ||
install-out.txt | 19-Apr-2024 00:32 | 1.0K | ||
buildbin-out.txt | 19-Apr-2024 00:32 | 1.2K | ||
checksrc-out.txt | 19-Apr-2024 00:32 | 3.9K | ||