Name | Last modified | Size | Description | |
---|---|---|---|---|
Parent Directory | - | |||
install-summary.dcf | 19-Apr-2024 00:32 | 275 | ||
install-out.txt | 19-Apr-2024 00:32 | 25K | ||
checksrc-summary.dcf | 19-Apr-2024 00:32 | 462 | ||
checksrc-out.txt | 19-Apr-2024 00:32 | 6.0K | ||
buildsrc-summary.dcf | 19-Apr-2024 00:32 | 437 | ||
buildsrc-out.txt | 19-Apr-2024 00:32 | 921 | ||
buildbin-summary.dcf | 19-Apr-2024 00:32 | 547 | ||
buildbin-out.txt | 19-Apr-2024 00:32 | 27K | ||