Name | Last modified | Size | Description | |
---|---|---|---|---|
Parent Directory | - | |||
buildbin-out.txt | 19-Apr-2024 00:32 | 1.2K | ||
buildbin-summary.dcf | 19-Apr-2024 00:32 | 548 | ||
buildsrc-out.txt | 19-Apr-2024 00:32 | 891 | ||
buildsrc-summary.dcf | 19-Apr-2024 00:32 | 436 | ||
checksrc-out.txt | 19-Apr-2024 00:32 | 6.7K | ||
checksrc-summary.dcf | 19-Apr-2024 00:32 | 461 | ||
install-out.txt | 19-Apr-2024 00:32 | 1.0K | ||
install-summary.dcf | 19-Apr-2024 00:32 | 274 | ||