Index of /checkResults/3.18/bioc-mac-arm64-LATEST/BEclear/raw-results/kjohnson1
Name
Last modified
Size
Description
Parent Directory
-
buildsrc-out.txt
19-Apr-2024 00:32
1.1K
buildsrc-summary.dcf
19-Apr-2024 00:32
343
install-out.txt
19-Apr-2024 00:32
2.2K
install-summary.dcf
19-Apr-2024 00:32
269