Index of /checkResults/3.18/bioc-longtests-LATEST/SimBu/raw-results
Name
Last modified
Size
Description
Parent Directory
-
info.dcf
14-Apr-2024 12:55
272
lconway/
03-Mar-2024 13:55
-
merida1/
14-Apr-2024 12:55
-
nebbiolo2/
14-Apr-2024 12:55
-
palomino4/
14-Apr-2024 12:55
-