Index of /checkResults/3.18/bioc-LATEST/vulcan/raw-results
Name
Last modified
Size
Description
Parent Directory
-
kunpeng2/
03-Nov-2023 00:41
-
lconway/
05-Mar-2024 01:38
-
merida1/
18-Apr-2024 00:38
-
nebbiolo2/
18-Apr-2024 00:36
-
palomino4/
18-Apr-2024 00:37
-
info.dcf
18-Apr-2024 00:35
280