Index of /checkResults/3.18/bioc-LATEST/seqbias/raw-results/merida1
Name
Last modified
Size
Description
Parent Directory
-
buildsrc-out.txt
18-Apr-2024 00:38
5.6K
buildsrc-summary.dcf
18-Apr-2024 00:38
343
install-out.txt
18-Apr-2024 00:38
5.4K
install-summary.dcf
18-Apr-2024 00:38
272